BEGIN:VCALENDAR
VERSION:2.0
PRODID:-//Squarespace Inc/Squarespace 6//v6//EN
BEGIN:VEVENT
UID:5ff7ca16253dc14f1ab1ff0c@squarespace.com
DTSTAMP:20210204T011413Z
DTSTART:20210220T040000Z
DTEND:20210220T060000Z
SUMMARY:YASG Lunch at The Hen 
GEO:-31.956633;115.876066
LOCATION:Girls School\, 2 Wellington Street\, East Perth\, Australia
END:VEVENT
END:VCALENDAR
