BEGIN:VCALENDAR
VERSION:2.0
PRODID:-//Squarespace Inc/Squarespace 6//v6//EN
BEGIN:VEVENT
UID:5ecca6dc95a4d74aea6c2f0b@squarespace.com
DTSTAMP:20200526T052509Z
DTSTART:20200617T110000Z
DTEND:20200617T123000Z
SUMMARY:YASG Quiz Night
END:VEVENT
END:VCALENDAR
