BEGIN:VCALENDAR
VERSION:2.0
PRODID:-//Squarespace Inc/Squarespace 6//v6//EN
BEGIN:VEVENT
UID:601b4dc663c59d3614d7e856@squarespace.com
DTSTAMP:20210204T013033Z
DTSTART:20210504T013000Z
DTEND:20210504T033000Z
SUMMARY:Coffee Morning 
GEO:-31.965136;115.815831
LOCATION:Muscular Dystrophy WA\, The Niche\, 11 Aberdare Road\, Nedlands WA
 \, Australia
END:VEVENT
END:VCALENDAR
