BEGIN:VCALENDAR
VERSION:2.0
PRODID:-//Squarespace Inc/Squarespace 6//v6//EN
BEGIN:VEVENT
UID:601b4aa99914941f93a17d7d@squarespace.com
DTSTAMP:20210204T013106Z
DTSTART:20210302T013000Z
DTEND:20210302T033000Z
SUMMARY:Coffee Morning
GEO:-31.965136;115.815831
LOCATION:Muscular Dystrophy WA\, The Niche\, 11 Aberdare Road\, Nedlands WA
 \, Australia
END:VEVENT
END:VCALENDAR
