BEGIN:VCALENDAR
VERSION:2.0
PRODID:-//Squarespace Inc/Squarespace 6//v6//EN
BEGIN:VEVENT
UID:5f18ee58a9f2de33306cdc01@squarespace.com
DTSTAMP:20200723T020535Z
DTSTART:20201016T090000Z
DTEND:20201016T120000Z
SUMMARY:Male Carers Event
GEO:-31.95031;115.87482
LOCATION:Lumberpunks\, 131 Kensington Street\, East Perth\, Australia
END:VEVENT
END:VCALENDAR
