BEGIN:VCALENDAR
VERSION:2.0
PRODID:-//Squarespace Inc/Squarespace 6//v6//EN
BEGIN:VEVENT
UID:602c74c87e157b509126128e@squarespace.com
DTSTAMP:20210217T015959Z
DTSTART:20210319T090000Z
DTEND:20210319T130000Z
SUMMARY:Male Carers - Social Lawn Bowls 
GEO:-31.928336;115.866795
LOCATION:Mount Lawley Bowls Club\, Rookwood Street\, Mount Lawley\, WA\, 60
 50\, Australia
END:VEVENT
END:VCALENDAR
