BEGIN:VCALENDAR
VERSION:2.0
PRODID:-//Squarespace Inc/Squarespace 6//v6//EN
BEGIN:VEVENT
UID:5ecb6fea95a4d74aea3e4e2c@squarespace.com
DTSTAMP:20200525T071555Z
DTSTART:20200715T010000Z
DTEND:20200715T080000Z
SUMMARY:School Holiday Program Day 2
GEO:-31.964989;115.815909
LOCATION:Muscular Dystrophy WA\, Suite B The Niche\, 11 Aberdare Road\, Ned
 lands\, Australia
END:VEVENT
END:VCALENDAR
