BEGIN:VCALENDAR
VERSION:2.0
PRODID:-//Squarespace Inc/Squarespace 6//v6//EN
BEGIN:VEVENT
UID:5ecb6d31d6d7ad4f6c38fd49@squarespace.com
DTSTAMP:20200525T071628Z
DTSTART:20200708T010000Z
DTEND:20200708T080000Z
SUMMARY:School Holiday Program Day 1
GEO:-31.964989;115.815909
LOCATION:Muscular Dystrophy WA\, Suite B The Niche\, 11 Aberdare Road\, Ned
 lands\, Australia
END:VEVENT
END:VCALENDAR
