BEGIN:VCALENDAR
VERSION:2.0
PRODID:-//Squarespace Inc/Squarespace 6//v6//EN
BEGIN:VEVENT
UID:5e264cba732aba3bf2956d1a@squarespace.com
DTSTAMP:20200121T012021Z
DTSTART:20200211T013000Z
DTEND:20200211T033000Z
SUMMARY:Coffee Morning
GEO:-31.964989;115.815908
LOCATION:Muscular Dystrophy WA\, Suite B The Niche 11 Aberdare Road\, Perth 
 6009\, Australia
END:VEVENT
END:VCALENDAR
