BEGIN:VCALENDAR
VERSION:2.0
PRODID:-//Squarespace Inc/Squarespace 6//v6//EN
BEGIN:VEVENT
UID:602c77594ee0ac703cd11461@squarespace.com
DTSTAMP:20210217T015815Z
DTSTART:20210326T040000Z
DTEND:20210326T060000Z
SUMMARY:Adults with NMCs - Lunch at Coast 
GEO:-32.034855;115.745547
LOCATION:Coast Port Beach\, 42 Port Beach Road\, North Fremantle\, WA\, 615
 9\, Australia
END:VEVENT
END:VCALENDAR
