BEGIN:VCALENDAR
VERSION:2.0
PRODID:-//Squarespace Inc/Squarespace 6//v6//EN
BEGIN:VEVENT
UID:5fa0f75e095f967a700dc14f@squarespace.com
DTSTAMP:20201103T062648Z
DTSTART:20210120T010000Z
DTEND:20210120T080000Z
SUMMARY:Fun Day
GEO:-31.965136;115.815831
LOCATION:The Niche\, 11 Aberdare Road\, Nedlands\, WA\, 6009\, Australia
END:VEVENT
END:VCALENDAR
