BEGIN:VCALENDAR
VERSION:2.0
PRODID:-//Squarespace Inc/Squarespace 6//v6//EN
BEGIN:VEVENT
UID:5ed87abc11c9095175b147df@squarespace.com
DTSTAMP:20200604T044048Z
DTSTART:20200930T000000Z
DTEND:20201002T030000Z
SUMMARY:Camp 2020
GEO:-31.815468;115.739298
LOCATION:Ern Halliday Camp\, Whitfords Ave\, Hillarys
END:VEVENT
END:VCALENDAR
