BEGIN:VCALENDAR
VERSION:2.0
PRODID:-//Squarespace Inc/Squarespace 6//v6//EN
BEGIN:VEVENT
UID:5f56fe5035cfcb0f5c27cc36@squarespace.com
DTSTAMP:20200908T035417Z
DTSTART:20200915T020000Z
DTEND:20200915T043000Z
SUMMARY:Self-Management Workshop 1
GEO:-31.965136;115.815831
LOCATION:The Niche\, 11 Aberdare Road\, Nedlands\, WA\, 6009\, Australia
END:VEVENT
END:VCALENDAR
