BEGIN:VCALENDAR
VERSION:2.0
PRODID:-//Squarespace Inc/Squarespace 6//v6//EN
BEGIN:VEVENT
UID:5f436ff70502cb348fcd1d22@squarespace.com
DTSTAMP:20200824T074818Z
DTSTART:20200910T103000Z
DTEND:20200910T123000Z
SUMMARY:YASG Dinner
GEO:-31.958005;115.900117
LOCATION:Blasta Brewing Co.\, Goodwood Parade\, Burswood\, WA\, 6100\, Aust
 ralia
END:VEVENT
END:VCALENDAR
