BEGIN:VCALENDAR
VERSION:2.0
PRODID:-//Squarespace Inc/Squarespace 6//v6//EN
BEGIN:VEVENT
UID:5e37caee0bbd9407605cdaa0@squarespace.com
DTSTAMP:20200604T044305Z
DTSTART:20200901T013000Z
DTEND:20200901T033000Z
SUMMARY:Coffee Morning
GEO:-31.965136;115.815831
LOCATION:Muscular Dystrophy WA\, 11 Aberdare Road\, Nedlands\, WA\, 6009\, 
 Australia
END:VEVENT
END:VCALENDAR
