BEGIN:VCALENDAR
VERSION:2.0
PRODID:-//Squarespace Inc/Squarespace 6//v6//EN
BEGIN:VEVENT
UID:5e37ca86a96d977ad2d6096a@squarespace.com
DTSTAMP:20200526T071458Z
DTSTART:20200610T030000Z
DTEND:20200610T033000Z
SUMMARY:Virtual Coffee Morning
GEO:-31.965136;115.815831
LOCATION:Muscular Dystrophy WA\, 11 Aberdare Road\, Nedlands\, WA\, 6009\, 
 Australia
END:VEVENT
END:VCALENDAR
