BEGIN:VCALENDAR
VERSION:2.0
PRODID:-//Squarespace Inc/Squarespace 6//v6//EN
BEGIN:VEVENT
UID:5eb0d78b2da21b0620ac800a@squarespace.com
DTSTAMP:20200505T030728Z
DTSTART:20200506T030000Z
DTEND:20200506T040000Z
SUMMARY:Virtual Coffee Morning 
END:VEVENT
END:VCALENDAR
