BEGIN:VCALENDAR
VERSION:2.0
PRODID:-//Squarespace Inc/Squarespace 6//v6//EN
BEGIN:VEVENT
UID:5eb0db4e5884e3671a680f24@squarespace.com
DTSTAMP:20200505T034755Z
DTSTART:20200527T050000Z
DTEND:20200527T060000Z
SUMMARY:The Loop Event Launch 
END:VEVENT
END:VCALENDAR
