BEGIN:VCALENDAR
VERSION:2.0
PRODID:-//Squarespace Inc/Squarespace 6//v6//EN
BEGIN:VEVENT
UID:5eb0d9259e5da97b82dba429@squarespace.com
DTSTAMP:20200505T031203Z
DTSTART:20200520T030000Z
DTEND:20200520T040000Z
SUMMARY:Virtual Coffee Morning 
END:VEVENT
END:VCALENDAR
