BEGIN:VCALENDAR
VERSION:2.0
PRODID:-//Squarespace Inc/Squarespace 6//v6//EN
BEGIN:VEVENT
UID:5eb0d890084e3731c4b98387@squarespace.com
DTSTAMP:20200505T031428Z
DTSTART:20200513T030000Z
DTEND:20200513T040000Z
SUMMARY:Virtual Coffee Morning
END:VEVENT
END:VCALENDAR
