BEGIN:VCALENDAR
VERSION:2.0
PRODID:-//Squarespace Inc/Squarespace 6//v6//EN
BEGIN:VEVENT
UID:5e5380c1c762610ac58b6613@squarespace.com
DTSTAMP:20200915T064806Z
DTSTART:20201121T013000Z
DTEND:20201121T050000Z
SUMMARY:Female Carers Event
GEO:-31.965136;115.815831
LOCATION:The Niche\, 11 Aberdare Road\, Nedlands\, WA\, 6009\, Australia
END:VEVENT
END:VCALENDAR
