BEGIN:VCALENDAR
VERSION:2.0
PRODID:-//Squarespace Inc/Squarespace 6//v6//EN
BEGIN:VEVENT
UID:5e990177a136d171c861c77c@squarespace.com
DTSTAMP:20200417T012300Z
DTSTART:20200430T103000Z
DTEND:20200430T123000Z
SUMMARY:Virtual Quiz Night
END:VEVENT
END:VCALENDAR
