BEGIN:VCALENDAR
VERSION:2.0
PRODID:-//Squarespace Inc/Squarespace 6//v6//EN
BEGIN:VEVENT
UID:5e9907847dbdc0289214ac11@squarespace.com
DTSTAMP:20200417T013654Z
DTSTART:20200420T020000Z
DTEND:20200420T030000Z
SUMMARY:School Holiday Challenge
END:VEVENT
END:VCALENDAR
