BEGIN:VCALENDAR
VERSION:2.0
PRODID:-//Squarespace Inc/Squarespace 6//v6//EN
BEGIN:VEVENT
UID:5e4f7313775fe451da9b974d@squarespace.com
DTSTAMP:20200526T071334Z
DTSTART:20200807T033000Z
DTEND:20200807T063000Z
SUMMARY:Adults with MD Event
GEO:-31.84498;116.007347
LOCATION:Oakover Wines\, 14 Yukich Close\, Middle Swan\, WA\, 6056\, Austra
 lia
END:VEVENT
END:VCALENDAR
