BEGIN:VCALENDAR
VERSION:2.0
PRODID:-//Squarespace Inc/Squarespace 6//v6//EN
BEGIN:VEVENT
UID:5e37b2d1ced5384d70ddbd94@squarespace.com
DTSTAMP:20200203T054724Z
DTSTART:20200214T093000Z
DTEND:20200214T123000Z
SUMMARY:Young Adults Social Group at Fringe Festival
GEO:-31.946321;115.859136
LOCATION:The Aberdeen Hotel\, 90 Aberdeen Street\, Northbridge\, WA\, 6003\
 , Australia
END:VEVENT
END:VCALENDAR
