BEGIN:VCALENDAR
VERSION:2.0
PRODID:-//Squarespace Inc/Squarespace 6//v6//EN
BEGIN:VEVENT
UID:5f8e93be580e070ad107d4b7@squarespace.com
DTSTAMP:20201020T075130Z
DTSTART:20201208T100000Z
DTEND:20201208T120000Z
SUMMARY:YASG End of Year Dinner
GEO:-31.959463;115.891629
LOCATION:The Camfield\, Camfield Drive\, Burswood\, WA\, 6100\, Australia
END:VEVENT
END:VCALENDAR
