BEGIN:VCALENDAR
VERSION:2.0
PRODID:-//Squarespace Inc/Squarespace 6//v6//EN
BEGIN:VEVENT
UID:5fa0f601cda023490b01b3e3@squarespace.com
DTSTAMP:20201103T062223Z
DTSTART:20201201T013000Z
DTEND:20201201T033000Z
SUMMARY:Coffee Morning
GEO:-31.965136;115.815831
LOCATION:The Niche\, 11 Aberdare Road\, Nedlands\, WA\, 6009\, Australia
END:VEVENT
END:VCALENDAR
