BEGIN:VCALENDAR
VERSION:2.0
PRODID:-//Squarespace Inc/Squarespace 6//v6//EN
BEGIN:VEVENT
UID:5f8e951ddc353a0176f3cef6@squarespace.com
DTSTAMP:20201020T074644Z
DTSTART:20201129T020000Z
DTEND:20201129T050000Z
SUMMARY:Community Day 
GEO:-31.959474;115.82412
LOCATION:Variety Pavillion\, Saw Avenue\, Kings Park\, WA\, 6005\, Australi
 a
END:VEVENT
END:VCALENDAR
