BEGIN:VCALENDAR
VERSION:2.0
PRODID:-//Squarespace Inc/Squarespace 6//v6//EN
BEGIN:VEVENT
UID:5e1421fd01a8570f0fa999cb@squarespace.com
DTSTAMP:20200107T061904Z
DTSTART:20200124T093000Z
DTEND:20200124T133000Z
SUMMARY:Male Carers Event
GEO:-31.963242;115.894452
LOCATION:Optus Stadium\, Glenn Pl\, Burswood\, WA\, 6100\, Australia
END:VEVENT
END:VCALENDAR
