BEGIN:VCALENDAR
VERSION:2.0
PRODID:-//Squarespace Inc/Squarespace 6//v6//EN
BEGIN:VEVENT
UID:5ddb88fb81fab20e4f40b1fd@squarespace.com
DTSTAMP:20191125T075650Z
DTSTART:20200122T010000Z
DTEND:20200122T080000Z
SUMMARY:School Holiday Program 
GEO:-31.965136;115.815831
LOCATION:The Niche\, 11 Aberdare Road\, Nedlands\, WA\, 6009\, Australia
END:VEVENT
END:VCALENDAR
