BEGIN:VCALENDAR
VERSION:2.0
PRODID:-//Squarespace Inc/Squarespace 6//v6//EN
BEGIN:VEVENT
UID:5ddb87cf5fd0b302be359f3f@squarespace.com
DTSTAMP:20200107T041930Z
DTSTART:20200115T010000Z
DTEND:20200115T080000Z
SUMMARY:School Holiday Program
GEO:-31.965136;115.815831
LOCATION:The Niche\, 11 Aberdare Road\, Nedlands\, WA\, 6009\, Australia
END:VEVENT
END:VCALENDAR
