BEGIN:VCALENDAR
VERSION:2.0
PRODID:-//Squarespace Inc/Squarespace 6//v6//EN
BEGIN:VEVENT
UID:5d5514a60f12ab000103958b@squarespace.com
DTSTAMP:20190815T081732Z
DTSTART:20190903T013000Z
DTEND:20190903T033000Z
SUMMARY:Coffee Morning
GEO:-31.965047;115.815865
LOCATION:Muscular Dystrophy WA\, Suite B The Niche\, 11 Aberdare Road\, Ned
 lands\, WA
END:VEVENT
END:VCALENDAR
