BEGIN:VCALENDAR
VERSION:2.0
PRODID:-//Squarespace Inc/Squarespace 6//v6//EN
BEGIN:VEVENT
UID:5d48df07c8554a0001932110@squarespace.com
DTSTAMP:20190806T021410Z
DTSTART:20190929T003000Z
DTEND:20190929T073000Z
SUMMARY:Male Carers Fishing Day 
GEO:-32.52197;115.713123
LOCATION:Mandurah Offshore Fishing and Sailing Club (MOFSC)\, 115 Breakwate
 r Parade\, Mandurah\, WA 6210\, Australia
END:VEVENT
END:VCALENDAR
