BEGIN:VCALENDAR
VERSION:2.0
PRODID:-//Squarespace Inc/Squarespace 6//v6//EN
BEGIN:VEVENT
UID:5d48e0d5208ae80001a2e310@squarespace.com
DTSTAMP:20190806T021507Z
DTSTART:20190913T020000Z
DTEND:20190913T063000Z
SUMMARY:Adults Day Fishing &amp\; Lunch 
GEO:-31.826105;115.738353
LOCATION:Hillarys Boat Harbour\, 86 Southside Drive\, Hillarys WA 6025\, Au
 stralia
END:VEVENT
END:VCALENDAR
