BEGIN:VCALENDAR
VERSION:2.0
PRODID:-//Squarespace Inc/Squarespace 6//v6//EN
BEGIN:VEVENT
UID:5d3162b733ae9b0001d55e47@squarespace.com
DTSTAMP:20190719T063148Z
DTSTART:20190806T013000Z
DTEND:20190806T033000Z
SUMMARY:Coffee Morning 
GEO:-31.965047;115.815865
LOCATION:Muscular Dystrophy WA\, Suite B The Niche 11 Aberdare Road\, Nedla
 nds\, WA 6009\, Australia
END:VEVENT
END:VCALENDAR
