BEGIN:VCALENDAR
VERSION:2.0
PRODID:-//Squarespace Inc/Squarespace 6//v6//EN
BEGIN:VEVENT
UID:5d48dd1ac8554a00019304fb@squarespace.com
DTSTAMP:20190806T021524Z
DTSTART:20190829T101500Z
DTEND:20190829T140000Z
SUMMARY:Young Adults Social Group Event
GEO:-31.956633;115.876066
LOCATION:2 Wellington Street\, East Perth\, Australia
END:VEVENT
END:VCALENDAR
