BEGIN:VCALENDAR
VERSION:2.0
PRODID:-//Squarespace Inc/Squarespace 6//v6//EN
BEGIN:VEVENT
UID:5d43c0495a615200011274ec@squarespace.com
DTSTAMP:20190802T044911Z
DTSTART:20190907T000000Z
DTEND:20190907T083000Z
SUMMARY:Dwellingup 100 
END:VEVENT
END:VCALENDAR
