BEGIN:VCALENDAR
VERSION:2.0
PRODID:-//Squarespace Inc/Squarespace 6//v6//EN
BEGIN:VEVENT
UID:5d0b3d1b0c769d0001d99cba@squarespace.com
DTSTAMP:20190620T080304Z
DTSTART:20190704T080000Z
DTEND:20190704T090000Z
SUMMARY:Ignite Award Information Session
GEO:-31.964922;115.815977
LOCATION:Muscular Dystrophy WA - Passmore Room\, The Niche 11 Aberdare Road
 \, Nedlands\, WA 6009\, Australia
END:VEVENT
END:VCALENDAR
