BEGIN:VCALENDAR
VERSION:2.0
PRODID:-//Squarespace Inc/Squarespace 6//v6//EN
BEGIN:VEVENT
UID:5d0b29e511f826000190ad19@squarespace.com
DTSTAMP:20190620T072552Z
DTSTART:20190702T013000Z
DTEND:20190702T033000Z
SUMMARY:July Coffee Morning
GEO:-31.964922;115.815977
LOCATION:Muscular Dystrophy WA\, Suite B The Niche 11 Aberdare Road\, Nedla
 nds\, WA  6009\, Australia
END:VEVENT
END:VCALENDAR
