BEGIN:VCALENDAR
VERSION:2.0
PRODID:-//Squarespace Inc/Squarespace 6//v6//EN
BEGIN:VEVENT
UID:5c4a781a7924e83e73004be0@squarespace.com
DTSTAMP:20190527T031518Z
DTSTART:20190717T010000Z
DTEND:20190717T080000Z
SUMMARY:July School Holiday Program Day 2
GEO:-31.965061;115.815843
LOCATION:Muscular Dystrophy WA\, The Niche 11 Aberdare Road\, NEDLANDS\, WA 
 6009\, Australia
END:VEVENT
END:VCALENDAR
