BEGIN:VCALENDAR
VERSION:2.0
PRODID:-//Squarespace Inc/Squarespace 6//v6//EN
BEGIN:VEVENT
UID:5c4a72f0575d1f6e8aadb41b@squarespace.com
DTSTAMP:20190527T031603Z
DTSTART:20190710T010000Z
DTEND:20190710T080000Z
SUMMARY:July School Holiday Program Day 1
GEO:-31.965136;115.815831
LOCATION:The Niche\, 11 Aberdare Road\, NEDLANDS\, WA 6009\, Australia
END:VEVENT
END:VCALENDAR
