BEGIN:VCALENDAR
VERSION:2.0
PRODID:-//Squarespace Inc/Squarespace 6//v6//EN
BEGIN:VEVENT
UID:5ce20de90f06d3000107a57c@squarespace.com
DTSTAMP:20190520T021911Z
DTSTART:20190604T013000Z
DTEND:20190604T033000Z
SUMMARY:June Coffee Morning
GEO:-31.965047;115.815865
LOCATION:Muscular Dystrophy WA\, Suite B The Niche 11 Aberdare Road\, NEDLA
 NDS\, WA 6009\, Australia
END:VEVENT
END:VCALENDAR
