BEGIN:VCALENDAR
VERSION:2.0
PRODID:-//Squarespace Inc/Squarespace 6//v6//EN
BEGIN:VEVENT
UID:5cb3d7110852298c9c634777@squarespace.com
DTSTAMP:20190415T010132Z
DTSTART:20190507T013000Z
DTEND:20190507T033000Z
SUMMARY:May Coffee Morning
GEO:-31.965047;115.815865
LOCATION:Muscular Dystrophy WA\, Suite B The Niche 11 Aberdare Road\, NEDLA
 NDS\, WA 6009\, Australia
END:VEVENT
END:VCALENDAR
