BEGIN:VCALENDAR
VERSION:2.0
PRODID:-//Squarespace Inc/Squarespace 6//v6//EN
BEGIN:VEVENT
UID:5cb812e424a6948690f96847@squarespace.com
DTSTAMP:20190418T060628Z
DTSTART:20190523T083000Z
DTEND:20190523T103000Z
SUMMARY:52nd Annual General Meeting
GEO:-31.965047;115.815865
LOCATION:Muscular Dystrophy WA\, Suite B The Niche 11 Aberdare Road\, NEDLA
 NDS\, WA 6009\, Australia
END:VEVENT
END:VCALENDAR
