BEGIN:VCALENDAR
VERSION:2.0
PRODID:-//Squarespace Inc/Squarespace 6//v6//EN
BEGIN:VEVENT
UID:5c8f415ec8302569d117ae8f@squarespace.com
DTSTAMP:20190318T065953Z
DTSTART:20190408T080000Z
DTEND:20190408T090000Z
SUMMARY:Hale Mates Term 1 Week 4
GEO:0.0;0.0
LOCATION:Hale School\, 160 Hale Road\, Wembley Downs\, Australia
END:VEVENT
END:VCALENDAR
