BEGIN:VCALENDAR
VERSION:2.0
PRODID:-//Squarespace Inc/Squarespace 6//v6//EN
BEGIN:VEVENT
UID:5c7895236e9a7f50d793fa64@squarespace.com
DTSTAMP:20190308T050627Z
DTSTART:20190406T030000Z
DTEND:20190406T060000Z
SUMMARY:Wine &amp\; Cheese at MyattsField
GEO:-32.019795;116.101169
LOCATION:MyattsField Vineyard\, Union Road\, Carmel\, Australia
END:VEVENT
END:VCALENDAR
