BEGIN:VCALENDAR
VERSION:2.0
PRODID:-//Squarespace Inc/Squarespace 6//v6//EN
BEGIN:VEVENT
UID:5c8f21a88165f58729386d96@squarespace.com
DTSTAMP:20190318T061511Z
DTSTART:20190402T013000Z
DTEND:20190402T033000Z
SUMMARY:April Coffee Morning
GEO:0.0;0.0
LOCATION:Muscular Dystrophy WA\, Suite B The Niche 11 Aberdare Road\, NEDLA
 NDS\, WA 6009\, Australia
END:VEVENT
END:VCALENDAR
