BEGIN:VCALENDAR
VERSION:2.0
PRODID:-//Squarespace Inc/Squarespace 6//v6//EN
BEGIN:VEVENT
UID:5c4970124ae23759d4e75aff@squarespace.com
DTSTAMP:20190313T012100Z
DTSTART:20190417T020000Z
DTEND:20190417T080000Z
SUMMARY:Family Day @ The Maze
GEO:-31.65426;115.958029
LOCATION:The Maze\, 1635 Neaves Road\, Bullsbrook\, WA\, 6084\, Australia
END:VEVENT
END:VCALENDAR
