BEGIN:VCALENDAR
VERSION:2.0
PRODID:-//Squarespace Inc/Squarespace 6//v6//EN
BEGIN:VEVENT
UID:5c888247e79c703af7cb28bf@squarespace.com
DTSTAMP:20190313T052720Z
DTSTART:20190401T100000Z
DTEND:20190401T140000Z
SUMMARY:YASG Nail It Quiz Night
GEO:0.0;0.0
LOCATION:Rosemount Hotel\, 459 Fitzgerald Street\, North Perth\, Australia
END:VEVENT
END:VCALENDAR
