BEGIN:VCALENDAR
VERSION:2.0
PRODID:-//Squarespace Inc/Squarespace 6//v6//EN
BEGIN:VEVENT
UID:5ca1a22af4e1fc51c4467a37@squarespace.com
DTSTAMP:20190401T053534Z
DTSTART:20190510T100000Z
DTEND:20190510T123000Z
SUMMARY:Bubbles &amp\; Brushes for Female Carers
GEO:-31.965136;115.815831
LOCATION:The Niche\, 11 Aberdare Road\, Nedlands\, Australia
END:VEVENT
END:VCALENDAR
